BEGIN:VCALENDAR
VERSION:2.0
PRODID:-//Bellingen Showground - ECPv6.10.2//NONSGML v1.0//EN
CALSCALE:GREGORIAN
METHOD:PUBLISH
X-WR-CALNAME:Bellingen Showground
X-ORIGINAL-URL:https://www.bellingenshowground.com.au
X-WR-CALDESC:Events for Bellingen Showground
REFRESH-INTERVAL;VALUE=DURATION:PT1H
X-Robots-Tag:noindex
X-PUBLISHED-TTL:PT1H
BEGIN:VTIMEZONE
TZID:Australia/Sydney
BEGIN:STANDARD
TZOFFSETFROM:+1100
TZOFFSETTO:+1000
TZNAME:AEST
DTSTART:20230401T160000
END:STANDARD
BEGIN:DAYLIGHT
TZOFFSETFROM:+1000
TZOFFSETTO:+1100
TZNAME:AEDT
DTSTART:20230930T160000
END:DAYLIGHT
BEGIN:STANDARD
TZOFFSETFROM:+1100
TZOFFSETTO:+1000
TZNAME:AEST
DTSTART:20240406T160000
END:STANDARD
BEGIN:DAYLIGHT
TZOFFSETFROM:+1000
TZOFFSETTO:+1100
TZNAME:AEDT
DTSTART:20241005T160000
END:DAYLIGHT
BEGIN:STANDARD
TZOFFSETFROM:+1100
TZOFFSETTO:+1000
TZNAME:AEST
DTSTART:20250405T160000
END:STANDARD
BEGIN:DAYLIGHT
TZOFFSETFROM:+1000
TZOFFSETTO:+1100
TZNAME:AEDT
DTSTART:20251004T160000
END:DAYLIGHT
BEGIN:STANDARD
TZOFFSETFROM:+1100
TZOFFSETTO:+1000
TZNAME:AEST
DTSTART:20260404T160000
END:STANDARD
BEGIN:DAYLIGHT
TZOFFSETFROM:+1000
TZOFFSETTO:+1100
TZNAME:AEDT
DTSTART:20261003T160000
END:DAYLIGHT
END:VTIMEZONE
BEGIN:VEVENT
DTSTART;VALUE=DATE:20230513
DTEND;VALUE=DATE:20230515
DTSTAMP:20260423T083123
CREATED:20230125T060235Z
LAST-MODIFIED:20230125T061721Z
UID:10000003-1683936000-1684108799@www.bellingenshowground.com.au
SUMMARY:Bellingen Show
DESCRIPTION:presented by The Bellinger River Agricultural Society Inc
URL:https://www.bellingenshowground.com.au/event/bellingen-show-5/
LOCATION:Bellingen Showground\, Black Street\, Bellingen\, NSW\, 2454\, Australia
CATEGORIES:Bellingen Show
ATTACH;FMTTYPE=image/png:https://www.bellingenshowground.com.au/wp-content/uploads/2021/07/BellingenShowLogo.png
ORGANIZER;CN="Bellingen River Agricultural Society":MAILTO:secretary@bellingenshow.com.au
GEO:-30.4488942;152.8979745
X-APPLE-STRUCTURED-LOCATION;VALUE=URI;X-ADDRESS=Bellingen Showground Black Street Bellingen NSW 2454 Australia;X-APPLE-RADIUS=500;X-TITLE=Black Street:geo:152.8979745,-30.4488942
END:VEVENT
BEGIN:VEVENT
DTSTART;VALUE=DATE:20231028
DTEND;VALUE=DATE:20231030
DTSTAMP:20260423T083123
CREATED:20230125T054245Z
LAST-MODIFIED:20230913T070236Z
UID:10000002-1698451200-1698623999@www.bellingenshowground.com.au
SUMMARY:Bellingen Valley Working Equitation
DESCRIPTION:
URL:https://www.bellingenshowground.com.au/event/bellingen-valley-working-equitation-3-2023-10-28/
LOCATION:Bellingen Showground\, Black Street\, Bellingen\, NSW\, 2454\, Australia
CATEGORIES:Arena
ATTACH;FMTTYPE=image/png:https://www.bellingenshowground.com.au/wp-content/uploads/2021/03/BVWELogo.png
GEO:-30.4488942;152.8979745
X-APPLE-STRUCTURED-LOCATION;VALUE=URI;X-ADDRESS=Bellingen Showground Black Street Bellingen NSW 2454 Australia;X-APPLE-RADIUS=500;X-TITLE=Black Street:geo:152.8979745,-30.4488942
END:VEVENT
BEGIN:VEVENT
DTSTART;TZID=Australia/Sydney:20250125T073000
DTEND;TZID=Australia/Sydney:20250125T113000
DTSTAMP:20260423T083123
CREATED:20250122T044135Z
LAST-MODIFIED:20250206T231102Z
UID:10000004-1737790200-1737804600@www.bellingenshowground.com.au
SUMMARY:Bellingen Growers Market
DESCRIPTION:Support locally grown produce and handmade wares. Each Saturday (except 3rd Saturday of the month) located around the Luncheon Pavilion.
URL:https://www.bellingenshowground.com.au/event/bellingen-growers-market/2025-01-25/
LOCATION:Bellingen Showground\, Black Street\, Bellingen\, NSW\, 2454\, Australia
CATEGORIES:Growers Market
ATTACH;FMTTYPE=image/png:https://www.bellingenshowground.com.au/wp-content/uploads/2025/01/BGMLOGO_2024-e1737520821942.png
ORGANIZER;CN="Bellingen Growers Market":MAILTO:bellogrowersmarket@gmail.com
GEO:-30.4488942;152.8979745
X-APPLE-STRUCTURED-LOCATION;VALUE=URI;X-ADDRESS=Bellingen Showground Black Street Bellingen NSW 2454 Australia;X-APPLE-RADIUS=500;X-TITLE=Black Street:geo:152.8979745,-30.4488942
END:VEVENT
BEGIN:VEVENT
DTSTART;VALUE=DATE:20250201
DTEND;VALUE=DATE:20250203
DTSTAMP:20260423T083123
CREATED:20250123T080821Z
LAST-MODIFIED:20250123T080821Z
UID:10000045-1738368000-1738540799@www.bellingenshowground.com.au
SUMMARY:Zone 9 Pony Club - Rally Day
DESCRIPTION:Club Rally Day/s
URL:https://www.bellingenshowground.com.au/event/zone-9-pony-club-rally-day/2025-02-01/
LOCATION:Bellingen Showground\, Black Street\, Bellingen\, NSW\, 2454\, Australia
CATEGORIES:Equestrian
ATTACH;FMTTYPE=image/jpeg:https://www.bellingenshowground.com.au/wp-content/uploads/2023/01/pcansw-logo.jpg
ORGANIZER;CN="Bellingen Pony Club":MAILTO:bellopc@gmail.com
GEO:-30.4488942;152.8979745
X-APPLE-STRUCTURED-LOCATION;VALUE=URI;X-ADDRESS=Bellingen Showground Black Street Bellingen NSW 2454 Australia;X-APPLE-RADIUS=500;X-TITLE=Black Street:geo:152.8979745,-30.4488942
END:VEVENT
BEGIN:VEVENT
DTSTART;TZID=Australia/Sydney:20250204T190000
DTEND;TZID=Australia/Sydney:20250204T210000
DTSTAMP:20260423T083123
CREATED:20250204T005946Z
LAST-MODIFIED:20250204T005946Z
UID:10000150-1738695600-1738702800@www.bellingenshowground.com.au
SUMMARY:Akabella Community Choir Bellingen
DESCRIPTION:AkaBella is a Bellingen\, non-auditioned\, community choir. Rehearsals are Tuesday nights\, 7.00-9.00pm at the Luncheon Pavilion\, Bellingen Showground. AkaBella is led by Louise Gore. \nExcluding School Holidays.
URL:https://www.bellingenshowground.com.au/event/akabella-community-choir-bellingen/2025-02-04/
LOCATION:Bellingen Showground\, Black Street\, Bellingen\, NSW\, 2454\, Australia
CATEGORIES:Luncheon Pavilion
ATTACH;FMTTYPE=image/jpeg:https://www.bellingenshowground.com.au/wp-content/uploads/2025/02/AkabellaChoir.jpg
ORGANIZER;CN="Akabella Community Choir Bellingen":MAILTO:akabellachoir@gmail.com
GEO:-30.4488942;152.8979745
X-APPLE-STRUCTURED-LOCATION;VALUE=URI;X-ADDRESS=Bellingen Showground Black Street Bellingen NSW 2454 Australia;X-APPLE-RADIUS=500;X-TITLE=Black Street:geo:152.8979745,-30.4488942
END:VEVENT
BEGIN:VEVENT
DTSTART;TZID=Australia/Sydney:20250208T080000
DTEND;TZID=Australia/Sydney:20250208T120000
DTSTAMP:20260423T083123
CREATED:20250203T233134Z
LAST-MODIFIED:20250203T233802Z
UID:10000058-1739001600-1739016000@www.bellingenshowground.com.au
SUMMARY:Poultry Club
DESCRIPTION:For all your Poultry needs – buying\, selling\, viewing. Second Saturday each month at the Poultry Pavilion\, Bellingen Showground. \nOpen to the general public and breeders.
URL:https://www.bellingenshowground.com.au/event/poultry-club/2025-02-08/
LOCATION:Bellingen Showground\, Black Street\, Bellingen\, NSW\, 2454\, Australia
CATEGORIES:Poultry
ATTACH;FMTTYPE=image/jpeg:https://www.bellingenshowground.com.au/wp-content/uploads/2021/12/Poultry-Club-e1693449211911.jpg
ORGANIZER;CN="Bellingen Poultry Club":MAILTO:bellingenpoultryclub@gmail.com
GEO:-30.4488942;152.8979745
X-APPLE-STRUCTURED-LOCATION;VALUE=URI;X-ADDRESS=Bellingen Showground Black Street Bellingen NSW 2454 Australia;X-APPLE-RADIUS=500;X-TITLE=Black Street:geo:152.8979745,-30.4488942
END:VEVENT
BEGIN:VEVENT
DTSTART;VALUE=DATE:20250209
DTEND;VALUE=DATE:20250210
DTSTAMP:20260423T083123
CREATED:20250204T003027Z
LAST-MODIFIED:20250204T003532Z
UID:10000070-1739059200-1739145599@www.bellingenshowground.com.au
SUMMARY:Bellingen Riding Club
DESCRIPTION:Second Sunday of each month.
URL:https://www.bellingenshowground.com.au/event/bellingen-riding-club/2025-02-09/
LOCATION:Bellingen Showground\, Black Street\, Bellingen\, NSW\, 2454\, Australia
CATEGORIES:Equestrian
ATTACH;FMTTYPE=image/png:https://www.bellingenshowground.com.au/wp-content/uploads/2022/01/Screenshot-2022-01-04-105308.png
GEO:-30.4488942;152.8979745
X-APPLE-STRUCTURED-LOCATION;VALUE=URI;X-ADDRESS=Bellingen Showground Black Street Bellingen NSW 2454 Australia;X-APPLE-RADIUS=500;X-TITLE=Black Street:geo:152.8979745,-30.4488942
END:VEVENT
BEGIN:VEVENT
DTSTART;VALUE=DATE:20250215
DTEND;VALUE=DATE:20250217
DTSTAMP:20260423T083123
CREATED:20250204T003416Z
LAST-MODIFIED:20250204T003416Z
UID:10000130-1739577600-1739750399@www.bellingenshowground.com.au
SUMMARY:North Coast Carriage Club
DESCRIPTION:3rd Weekend of Each Month
URL:https://www.bellingenshowground.com.au/event/north-coast-carriage-club/2025-02-15/
LOCATION:Bellingen Showground\, Black Street\, Bellingen\, NSW\, 2454\, Australia
CATEGORIES:Equestrian
ATTACH;FMTTYPE=image/gif:https://www.bellingenshowground.com.au/wp-content/uploads/2023/01/NCCC-Logo-e1703206465578.gif
GEO:-30.4488942;152.8979745
X-APPLE-STRUCTURED-LOCATION;VALUE=URI;X-ADDRESS=Bellingen Showground Black Street Bellingen NSW 2454 Australia;X-APPLE-RADIUS=500;X-TITLE=Black Street:geo:152.8979745,-30.4488942
END:VEVENT
BEGIN:VEVENT
DTSTART;VALUE=DATE:20250222
DTEND;VALUE=DATE:20250224
DTSTAMP:20260423T083123
CREATED:20250204T003834Z
LAST-MODIFIED:20250204T003834Z
UID:10000140-1740182400-1740355199@www.bellingenshowground.com.au
SUMMARY:Bellingen Valley Working Equitation
DESCRIPTION:4th Weekend of each month
URL:https://www.bellingenshowground.com.au/event/bellingen-valley-working-equitation/2025-02-22/
LOCATION:Bellingen Showground\, Black Street\, Bellingen\, NSW\, 2454\, Australia
CATEGORIES:Equestrian
ATTACH;FMTTYPE=image/png:https://www.bellingenshowground.com.au/wp-content/uploads/2021/03/BVWELogo.png
GEO:-30.4488942;152.8979745
X-APPLE-STRUCTURED-LOCATION;VALUE=URI;X-ADDRESS=Bellingen Showground Black Street Bellingen NSW 2454 Australia;X-APPLE-RADIUS=500;X-TITLE=Black Street:geo:152.8979745,-30.4488942
END:VEVENT
BEGIN:VEVENT
DTSTART;VALUE=DATE:20250328
DTEND;VALUE=DATE:20250331
DTSTAMP:20260423T083123
CREATED:20250123T094404Z
LAST-MODIFIED:20250123T094404Z
UID:10000056-1743120000-1743379199@www.bellingenshowground.com.au
SUMMARY:Zone 9 Pony Club - Gymkhana
DESCRIPTION:
URL:https://www.bellingenshowground.com.au/event/zone-9-pony-club-gymkhana/
LOCATION:Bellingen Showground\, Black Street\, Bellingen\, NSW\, 2454\, Australia
CATEGORIES:Equestrian
ATTACH;FMTTYPE=image/jpeg:https://www.bellingenshowground.com.au/wp-content/uploads/2023/01/pcansw-logo.jpg
ORGANIZER;CN="Bellingen Pony Club":MAILTO:bellopc@gmail.com
GEO:-30.4488942;152.8979745
X-APPLE-STRUCTURED-LOCATION;VALUE=URI;X-ADDRESS=Bellingen Showground Black Street Bellingen NSW 2454 Australia;X-APPLE-RADIUS=500;X-TITLE=Black Street:geo:152.8979745,-30.4488942
END:VEVENT
BEGIN:VEVENT
DTSTART;TZID=Australia/Sydney:20250405T110000
DTEND;TZID=Australia/Sydney:20250405T230000
DTSTAMP:20260423T083123
CREATED:20250204T015814Z
LAST-MODIFIED:20250204T015814Z
UID:10000198-1743850800-1743894000@www.bellingenshowground.com.au
SUMMARY:River Sounds
DESCRIPTION:River Sounds festival is located in beautiful Gumbaynggirr Country (Bellingen\, NSW).Saturday April 5\, 2025. Bellingen Showgrounds.
URL:https://www.bellingenshowground.com.au/event/river-sounds/
LOCATION:Bellingen Showground\, Black Street\, Bellingen\, NSW\, 2454\, Australia
CATEGORIES:Festival
ATTACH;FMTTYPE=image/jpeg:https://www.bellingenshowground.com.au/wp-content/uploads/2025/02/RiverSounds2025-e1774568229595.jpg
ORGANIZER;CN="River Sounds":MAILTO:hello@gigbig.com.au
GEO:-30.4488942;152.8979745
X-APPLE-STRUCTURED-LOCATION;VALUE=URI;X-ADDRESS=Bellingen Showground Black Street Bellingen NSW 2454 Australia;X-APPLE-RADIUS=500;X-TITLE=Black Street:geo:152.8979745,-30.4488942
END:VEVENT
BEGIN:VEVENT
DTSTART;VALUE=DATE:20250425
DTEND;VALUE=DATE:20250426
DTSTAMP:20260423T083123
CREATED:20250123T095247Z
LAST-MODIFIED:20250123T095247Z
UID:10000057-1745539200-1745625599@www.bellingenshowground.com.au
SUMMARY:Zone 9 Pony Club - ANZAC DAY
DESCRIPTION:
URL:https://www.bellingenshowground.com.au/event/zone-9-pony-club-anzac-day/
LOCATION:Bellingen Showground\, Black Street\, Bellingen\, NSW\, 2454\, Australia
CATEGORIES:Equestrian
ATTACH;FMTTYPE=image/jpeg:https://www.bellingenshowground.com.au/wp-content/uploads/2023/01/pcansw-logo.jpg
ORGANIZER;CN="Bellingen Pony Club":MAILTO:bellopc@gmail.com
GEO:-30.4488942;152.8979745
X-APPLE-STRUCTURED-LOCATION;VALUE=URI;X-ADDRESS=Bellingen Showground Black Street Bellingen NSW 2454 Australia;X-APPLE-RADIUS=500;X-TITLE=Black Street:geo:152.8979745,-30.4488942
END:VEVENT
BEGIN:VEVENT
DTSTART;VALUE=DATE:20250511
DTEND;VALUE=DATE:20250512
DTSTAMP:20260423T083123
CREATED:20250203T234243Z
LAST-MODIFIED:20250203T234243Z
UID:10000069-1746921600-1747007999@www.bellingenshowground.com.au
SUMMARY:Annual Poultry Show
DESCRIPTION:Annual All Breeds Show for all Poultry. Contact Bellingen River District Poultry Club for more information.
URL:https://www.bellingenshowground.com.au/event/annual-poultry-show/
LOCATION:Bellingen Showground\, Black Street\, Bellingen\, NSW\, 2454\, Australia
CATEGORIES:Poultry
ATTACH;FMTTYPE=image/jpeg:https://www.bellingenshowground.com.au/wp-content/uploads/2021/12/Poultry-Club-e1693449211911.jpg
ORGANIZER;CN="Bellingen Pony Club":MAILTO:bellopc@gmail.com
GEO:-30.4488942;152.8979745
X-APPLE-STRUCTURED-LOCATION;VALUE=URI;X-ADDRESS=Bellingen Showground Black Street Bellingen NSW 2454 Australia;X-APPLE-RADIUS=500;X-TITLE=Black Street:geo:152.8979745,-30.4488942
END:VEVENT
BEGIN:VEVENT
DTSTART;VALUE=DATE:20250524
DTEND;VALUE=DATE:20250526
DTSTAMP:20260423T083123
CREATED:20250204T021259Z
LAST-MODIFIED:20250204T021259Z
UID:10000199-1748044800-1748217599@www.bellingenshowground.com.au
SUMMARY:Bellingen Show
DESCRIPTION:24 & 25 may\, 2025\nSomething wonderful is about to happen…\nThe Bellinger River Agricultural Society has organised the Bellingen Show\nfor and with the help of the community\, since 1881. \nIt is a not-for-profit event.
URL:https://www.bellingenshowground.com.au/event/bellingen-show/
LOCATION:Bellingen Showground\, Black Street\, Bellingen\, NSW\, 2454\, Australia
CATEGORIES:Bellingen Show
ATTACH;FMTTYPE=image/png:https://www.bellingenshowground.com.au/wp-content/uploads/2023/11/Logo.png
ORGANIZER;CN="Bellingen Show Society":MAILTO:secretary@bellingenshow.com.au
GEO:-30.4488942;152.8979745
X-APPLE-STRUCTURED-LOCATION;VALUE=URI;X-ADDRESS=Bellingen Showground Black Street Bellingen NSW 2454 Australia;X-APPLE-RADIUS=500;X-TITLE=Black Street:geo:152.8979745,-30.4488942
END:VEVENT
BEGIN:VEVENT
DTSTART;TZID=Australia/Sydney:20250607T080000
DTEND;TZID=Australia/Sydney:20250607T140000
DTSTAMP:20260423T083123
CREATED:20250204T022403Z
LAST-MODIFIED:20250204T022403Z
UID:10000200-1749283200-1749304800@www.bellingenshowground.com.au
SUMMARY:Bellingen Growers & Artisan Market
DESCRIPTION:Weekly Growers Market is joined this Saturday by the Bi-annual Artisan Market!
URL:https://www.bellingenshowground.com.au/event/bellingen-growers-artisan-market/
LOCATION:Bellingen Showground\, Black Street\, Bellingen\, NSW\, 2454\, Australia
CATEGORIES:Markets
ATTACH;FMTTYPE=image/png:https://www.bellingenshowground.com.au/wp-content/uploads/2025/01/BGMLOGO_2024-e1737520821942.png
ORGANIZER;CN="Bellingen Growers Market":MAILTO:bellogrowersmarket@gmail.com
GEO:-30.4488942;152.8979745
X-APPLE-STRUCTURED-LOCATION;VALUE=URI;X-ADDRESS=Bellingen Showground Black Street Bellingen NSW 2454 Australia;X-APPLE-RADIUS=500;X-TITLE=Black Street:geo:152.8979745,-30.4488942
END:VEVENT
BEGIN:VEVENT
DTSTART;TZID=Australia/Sydney:20250621T123000
DTEND;TZID=Australia/Sydney:20250621T230000
DTSTAMP:20260423T083123
CREATED:20250507T014423Z
LAST-MODIFIED:20250507T014423Z
UID:10000201-1750509000-1750546800@www.bellingenshowground.com.au
SUMMARY:International Women's Day Festival
DESCRIPTION:A music festival to celebrate women’s contributions. It will includestalls\, music\, food\, weaving\, dancing\, speakers. \nhttps://www.facebook.com/photo/?fbid=682847297798727&set=a.136370689113060&__cft__[0]=AZV4wOl8FiNS4M7-wme7kkz3D3tC2CT5up4mx1Y0IAzRj95gfJc2AtDbK9vzbeaCi_maNGk00GiCWuKqgtVCtDSLFPaSGpoR6rEH12kP3FgEIv18J0f_WNYTDpVs5vcYg0GB0jz0tP02Ifu01C6GiLQd8BNkg0zR524UNcf7WEJLvICS9mRtMF7G_erwBgfZxQs&__tn__=E
URL:https://www.bellingenshowground.com.au/event/international-womens-day-festival/
LOCATION:Bellingen Showground\, Black Street\, Bellingen\, NSW\, 2454\, Australia
CATEGORIES:Main Pavilion
ATTACH;FMTTYPE=image/jpeg:https://www.bellingenshowground.com.au/wp-content/uploads/2025/05/HotMess.jpg
GEO:-30.4488942;152.8979745
X-APPLE-STRUCTURED-LOCATION;VALUE=URI;X-ADDRESS=Bellingen Showground Black Street Bellingen NSW 2454 Australia;X-APPLE-RADIUS=500;X-TITLE=Black Street:geo:152.8979745,-30.4488942
END:VEVENT
BEGIN:VEVENT
DTSTART;TZID=Australia/Sydney:20250726T080000
DTEND;TZID=Australia/Sydney:20250726T170000
DTSTAMP:20260423T083123
CREATED:20250717T020042Z
LAST-MODIFIED:20250717T020814Z
UID:10000205-1753516800-1753549200@www.bellingenshowground.com.au
SUMMARY:Dashville on the Road
DESCRIPTION:
URL:https://www.bellingenshowground.com.au/event/dashville-on-the-road/
LOCATION:Bellingen Showground\, Black Street\, Bellingen\, NSW\, 2454\, Australia
ATTACH;FMTTYPE=image/jpeg:https://www.bellingenshowground.com.au/wp-content/uploads/2025/07/DashvilleontheRoad.jpg
GEO:-30.4488942;152.8979745
X-APPLE-STRUCTURED-LOCATION;VALUE=URI;X-ADDRESS=Bellingen Showground Black Street Bellingen NSW 2454 Australia;X-APPLE-RADIUS=500;X-TITLE=Black Street:geo:152.8979745,-30.4488942
END:VEVENT
BEGIN:VEVENT
DTSTART;TZID=Australia/Sydney:20250809T160000
DTEND;TZID=Australia/Sydney:20250809T210000
DTSTAMP:20260423T083123
CREATED:20250717T014555Z
LAST-MODIFIED:20250717T015511Z
UID:10000204-1754755200-1754773200@www.bellingenshowground.com.au
SUMMARY:Lions Annual Fireworks
DESCRIPTION:FREE EVENT \nBring the family and friends and support our local Lions Club of Bellingen as they say thank you to the Community by putting on a spectacular fireworks display.
URL:https://www.bellingenshowground.com.au/event/lions-annual-fireworks/
LOCATION:Bellingen Showground\, Black Street\, Bellingen\, NSW\, 2454\, Australia
ATTACH;FMTTYPE=image/jpeg:https://www.bellingenshowground.com.au/wp-content/uploads/2022/07/LionsClubBellingen-e1658114120627.jpg
ORGANIZER;CN="Lions Club of Bellingen":MAILTO:bellingen@lionsdistrict201n1.org.au
GEO:-30.4488942;152.8979745
X-APPLE-STRUCTURED-LOCATION;VALUE=URI;X-ADDRESS=Bellingen Showground Black Street Bellingen NSW 2454 Australia;X-APPLE-RADIUS=500;X-TITLE=Black Street:geo:152.8979745,-30.4488942
END:VEVENT
BEGIN:VEVENT
DTSTART;TZID=Australia/Sydney:20250823T180000
DTEND;TZID=Australia/Sydney:20250823T230000
DTSTAMP:20260423T083123
CREATED:20250717T020537Z
LAST-MODIFIED:20250717T020553Z
UID:10000206-1755972000-1755990000@www.bellingenshowground.com.au
SUMMARY:Dharma Sonics
DESCRIPTION:
URL:https://www.bellingenshowground.com.au/event/dharma-sonics/
LOCATION:Bellingen Showground\, Black Street\, Bellingen\, NSW\, 2454\, Australia
ATTACH;FMTTYPE=image/jpeg:https://www.bellingenshowground.com.au/wp-content/uploads/2025/07/Dharma-Sonics-Bello-showground-Poster-sml-768x1086-1.jpg
GEO:-30.4488942;152.8979745
X-APPLE-STRUCTURED-LOCATION;VALUE=URI;X-ADDRESS=Bellingen Showground Black Street Bellingen NSW 2454 Australia;X-APPLE-RADIUS=500;X-TITLE=Black Street:geo:152.8979745,-30.4488942
END:VEVENT
BEGIN:VEVENT
DTSTART;TZID=Australia/Sydney:20250913T150000
DTEND;TZID=Australia/Sydney:20250913T230000
DTSTAMP:20260423T083123
CREATED:20250717T013921Z
LAST-MODIFIED:20250717T013921Z
UID:10000203-1757775600-1757804400@www.bellingenshowground.com.au
SUMMARY:Clitoverse: Welcome to the Jungle
DESCRIPTION:
URL:https://www.bellingenshowground.com.au/event/clitoverse-welcome-to-the-jungle/
LOCATION:Bellingen Showground\, Black Street\, Bellingen\, NSW\, 2454\, Australia
ATTACH;FMTTYPE=image/webp:https://www.bellingenshowground.com.au/wp-content/uploads/2025/07/WelcometotheJungle.webp
GEO:-30.4488942;152.8979745
X-APPLE-STRUCTURED-LOCATION;VALUE=URI;X-ADDRESS=Bellingen Showground Black Street Bellingen NSW 2454 Australia;X-APPLE-RADIUS=500;X-TITLE=Black Street:geo:152.8979745,-30.4488942
END:VEVENT
BEGIN:VEVENT
DTSTART;VALUE=DATE:20260201
DTEND;VALUE=DATE:20260202
DTSTAMP:20260423T083123
CREATED:20260326T022505Z
LAST-MODIFIED:20260327T000446Z
UID:10000385-1769904000-1769990399@www.bellingenshowground.com.au
SUMMARY:Bellinger River Pony Club
DESCRIPTION:Month Rally Day
URL:https://www.bellingenshowground.com.au/event/bellinger-river-pony-club/2026-02-01/
LOCATION:Bellingen Showground\, Black Street\, Bellingen\, NSW\, 2454\, Australia
CATEGORIES:Equestrian
ATTACH;FMTTYPE=image/jpeg:https://www.bellingenshowground.com.au/wp-content/uploads/2023/01/pcansw-logo.jpg
ORGANIZER;CN="Bellingen Pony Club":MAILTO:bellopc@gmail.com
GEO:-30.4488942;152.8979745
X-APPLE-STRUCTURED-LOCATION;VALUE=URI;X-ADDRESS=Bellingen Showground Black Street Bellingen NSW 2454 Australia;X-APPLE-RADIUS=500;X-TITLE=Black Street:geo:152.8979745,-30.4488942
END:VEVENT
BEGIN:VEVENT
DTSTART;VALUE=DATE:20260207
DTEND;VALUE=DATE:20260209
DTSTAMP:20260423T083123
CREATED:20260212T060042Z
LAST-MODIFIED:20260326T041349Z
UID:10000332-1770422400-1770595199@www.bellingenshowground.com.au
SUMMARY:North Coast Carriage Club
DESCRIPTION:
URL:https://www.bellingenshowground.com.au/event/north-coast-carriage-club-2/
LOCATION:Bellingen Showground\, Black Street\, Bellingen\, NSW\, 2454\, Australia
CATEGORIES:Equestrian
ATTACH;FMTTYPE=image/gif:https://www.bellingenshowground.com.au/wp-content/uploads/2023/01/NCCC-Logo-e1703206465578.gif
GEO:-30.4488942;152.8979745
X-APPLE-STRUCTURED-LOCATION;VALUE=URI;X-ADDRESS=Bellingen Showground Black Street Bellingen NSW 2454 Australia;X-APPLE-RADIUS=500;X-TITLE=Black Street:geo:152.8979745,-30.4488942
END:VEVENT
BEGIN:VEVENT
DTSTART;TZID=Australia/Sydney:20260214T073000
DTEND;TZID=Australia/Sydney:20260214T113000
DTSTAMP:20260423T083123
CREATED:20260212T022220Z
LAST-MODIFIED:20260212T051215Z
UID:10000207-1771054200-1771068600@www.bellingenshowground.com.au
SUMMARY:Bellingen Growers Market
DESCRIPTION:Every Saturday morning\, except 3rd Saturday of the Month where they will be located at the Monthly Community Market\, at the Annual Autumn & Spring Plant Fairs.
URL:https://www.bellingenshowground.com.au/event/bellingen-growers-market-2/2026-02-14/
LOCATION:Bellingen Showground\, Black Street\, Bellingen\, NSW\, 2454\, Australia
CATEGORIES:Growers Market
ATTACH;FMTTYPE=image/png:https://www.bellingenshowground.com.au/wp-content/uploads/2025/01/BGMLOGO_2024-e1737520821942.png
ORGANIZER;CN="Bellingen Growers Market":MAILTO:bellogrowersmarket@gmail.com
GEO:-30.4488942;152.8979745
X-APPLE-STRUCTURED-LOCATION;VALUE=URI;X-ADDRESS=Bellingen Showground Black Street Bellingen NSW 2454 Australia;X-APPLE-RADIUS=500;X-TITLE=Black Street:geo:152.8979745,-30.4488942
END:VEVENT
BEGIN:VEVENT
DTSTART;TZID=Australia/Sydney:20260214T073000
DTEND;TZID=Australia/Sydney:20260214T113000
DTSTAMP:20260423T083123
CREATED:20260212T022651Z
LAST-MODIFIED:20260212T024135Z
UID:10000282-1771054200-1771068600@www.bellingenshowground.com.au
SUMMARY:Bellinger River District Poultry Club
DESCRIPTION:2nd Saturday of Each Month at Bellingen Showground Poultry Pavilion.
URL:https://www.bellingenshowground.com.au/event/bellinger-river-district-poultry-club/2026-02-14/
LOCATION:Bellingen Showground\, Black Street\, Bellingen\, NSW\, 2454\, Australia
CATEGORIES:Poultry
ATTACH;FMTTYPE=image/jpeg:https://www.bellingenshowground.com.au/wp-content/uploads/2021/12/Poultry-Club-e1693449211911.jpg
ORGANIZER;CN="Bellingen River District Poultry Club":MAILTO: bellingenpoultryclub@gmail.com
GEO:-30.4488942;152.8979745
X-APPLE-STRUCTURED-LOCATION;VALUE=URI;X-ADDRESS=Bellingen Showground Black Street Bellingen NSW 2454 Australia;X-APPLE-RADIUS=500;X-TITLE=Black Street:geo:152.8979745,-30.4488942
END:VEVENT
BEGIN:VEVENT
DTSTART;VALUE=DATE:20260215
DTEND;VALUE=DATE:20260216
DTSTAMP:20260423T083123
CREATED:20260212T055554Z
LAST-MODIFIED:20260212T055554Z
UID:10000309-1771113600-1771199999@www.bellingenshowground.com.au
SUMMARY:Bellingen Riding Club
DESCRIPTION:
URL:https://www.bellingenshowground.com.au/event/bellingen-riding-club-2/2026-02-15/
LOCATION:Bellingen Showground\, Black Street\, Bellingen\, NSW\, 2454\, Australia
CATEGORIES:Equestrian
ATTACH;FMTTYPE=image/png:https://www.bellingenshowground.com.au/wp-content/uploads/2022/01/Screenshot-2022-01-04-105308.png
GEO:-30.4488942;152.8979745
X-APPLE-STRUCTURED-LOCATION;VALUE=URI;X-ADDRESS=Bellingen Showground Black Street Bellingen NSW 2454 Australia;X-APPLE-RADIUS=500;X-TITLE=Black Street:geo:152.8979745,-30.4488942
END:VEVENT
BEGIN:VEVENT
DTSTART;VALUE=DATE:20260221
DTEND;VALUE=DATE:20260222
DTSTAMP:20260423T083123
CREATED:20260212T061312Z
LAST-MODIFIED:20260212T061312Z
UID:10000360-1771660800-1771693200@www.bellingenshowground.com.au
SUMMARY:Bellingen Valley Working Equitation
DESCRIPTION:
URL:https://www.bellingenshowground.com.au/event/bellingen-valley-working-equitation-3/2026-02-21/
LOCATION:Bellingen Showground\, Black Street\, Bellingen\, NSW\, 2454\, Australia
CATEGORIES:Equestrian
ATTACH;FMTTYPE=image/png:https://www.bellingenshowground.com.au/wp-content/uploads/2021/03/BVWELogo.png
GEO:-30.4488942;152.8979745
X-APPLE-STRUCTURED-LOCATION;VALUE=URI;X-ADDRESS=Bellingen Showground Black Street Bellingen NSW 2454 Australia;X-APPLE-RADIUS=500;X-TITLE=Black Street:geo:152.8979745,-30.4488942
END:VEVENT
BEGIN:VEVENT
DTSTART;VALUE=DATE:20260307
DTEND;VALUE=DATE:20260309
DTSTAMP:20260423T083123
CREATED:20260212T060108Z
LAST-MODIFIED:20260212T060108Z
UID:10000333-1772841600-1773014399@www.bellingenshowground.com.au
SUMMARY:North Coast Carriage Club
DESCRIPTION:
URL:https://www.bellingenshowground.com.au/event/north-coast-carriage-club-3/
LOCATION:Bellingen Showground\, Black Street\, Bellingen\, NSW\, 2454\, Australia
CATEGORIES:Equestrian
ATTACH;FMTTYPE=image/gif:https://www.bellingenshowground.com.au/wp-content/uploads/2023/01/NCCC-Logo-e1703206465578.gif
GEO:-30.4488942;152.8979745
X-APPLE-STRUCTURED-LOCATION;VALUE=URI;X-ADDRESS=Bellingen Showground Black Street Bellingen NSW 2454 Australia;X-APPLE-RADIUS=500;X-TITLE=Black Street:geo:152.8979745,-30.4488942
END:VEVENT
BEGIN:VEVENT
DTSTART;VALUE=DATE:20260328
DTEND;VALUE=DATE:20260330
DTSTAMP:20260423T083123
CREATED:20260326T041247Z
LAST-MODIFIED:20260326T041247Z
UID:10000394-1774656000-1774828799@www.bellingenshowground.com.au
SUMMARY:Bellinger River Pony Club
DESCRIPTION:Monthly Rally Day
URL:https://www.bellingenshowground.com.au/event/bellinger-river-pony-club-2/
LOCATION:Bellingen Showground\, Black Street\, Bellingen\, NSW\, 2454\, Australia
CATEGORIES:Equestrian
ATTACH;FMTTYPE=image/jpeg:https://www.bellingenshowground.com.au/wp-content/uploads/2023/01/pcansw-logo.jpg
ORGANIZER;CN="Bellingen Pony Club":MAILTO:bellopc@gmail.com
GEO:-30.4488942;152.8979745
X-APPLE-STRUCTURED-LOCATION;VALUE=URI;X-ADDRESS=Bellingen Showground Black Street Bellingen NSW 2454 Australia;X-APPLE-RADIUS=500;X-TITLE=Black Street:geo:152.8979745,-30.4488942
END:VEVENT
BEGIN:VEVENT
DTSTART;TZID=Australia/Sydney:20260410T180000
DTEND;TZID=Australia/Sydney:20260410T203000
DTSTAMP:20260423T083123
CREATED:20260326T233421Z
LAST-MODIFIED:20260326T233421Z
UID:10000396-1775844000-1775853000@www.bellingenshowground.com.au
SUMMARY:Back to Bellingen Concert
DESCRIPTION:
URL:https://www.bellingenshowground.com.au/event/back-to-bellingen-concert/
LOCATION:Bellingen Showground\, Black Street\, Bellingen\, NSW\, 2454\, Australia
ATTACH;FMTTYPE=image/jpeg:https://www.bellingenshowground.com.au/wp-content/uploads/2026/03/YAC-e1774566576231.jpg
ORGANIZER;CN="Yurruungga Aboriginal Corporation":MAILTO:admin@yac.org.au
GEO:-30.4488942;152.8979745
X-APPLE-STRUCTURED-LOCATION;VALUE=URI;X-ADDRESS=Bellingen Showground Black Street Bellingen NSW 2454 Australia;X-APPLE-RADIUS=500;X-TITLE=Black Street:geo:152.8979745,-30.4488942
END:VEVENT
BEGIN:VEVENT
DTSTART;VALUE=DATE:20260411
DTEND;VALUE=DATE:20260413
DTSTAMP:20260423T083123
CREATED:20260212T060345Z
LAST-MODIFIED:20260212T060438Z
UID:10000336-1775865600-1776038399@www.bellingenshowground.com.au
SUMMARY:North Coast Carriage Club
DESCRIPTION:
URL:https://www.bellingenshowground.com.au/event/north-coast-carriage-club-4/2026-04-11/
LOCATION:Bellingen Showground\, Black Street\, Bellingen\, NSW\, 2454\, Australia
CATEGORIES:Equestrian
ATTACH;FMTTYPE=image/gif:https://www.bellingenshowground.com.au/wp-content/uploads/2023/01/NCCC-Logo-e1703206465578.gif
GEO:-30.4488942;152.8979745
X-APPLE-STRUCTURED-LOCATION;VALUE=URI;X-ADDRESS=Bellingen Showground Black Street Bellingen NSW 2454 Australia;X-APPLE-RADIUS=500;X-TITLE=Black Street:geo:152.8979745,-30.4488942
END:VEVENT
END:VCALENDAR