BEGIN:VCALENDAR
VERSION:2.0
PRODID:-//Bellingen Showground - ECPv4.3.3//NONSGML v1.0//EN
CALSCALE:GREGORIAN
METHOD:PUBLISH
X-WR-CALNAME:Bellingen Showground
X-ORIGINAL-URL:http://www.bellingenshowground.com.au
X-WR-CALDESC:Events for Bellingen Showground
BEGIN:VEVENT
DTSTART;TZID=Australia/Sydney:20200208T070000
DTEND;TZID=Australia/Sydney:20200208T140000
DTSTAMP:20200228T034528
CREATED:20180820T042433Z
LAST-MODIFIED:20180831T004311Z
UID:8889-1581145200-1581170400@www.bellingenshowground.com.au
SUMMARY:Growers Market
DESCRIPTION:
URL:http://www.bellingenshowground.com.au/event/growers-market-4/2020-02-08/
LOCATION:Black Street\, Bellingen\, NSW\, 2454\, Australia
GEO:-30.4488942;152.8979745
X-APPLE-STRUCTURED-LOCATION;VALUE=URI;X-ADDRESS=Black Street Bellingen NSW 2454 Australia;X-APPLE-RADIUS=500;X-TITLE=Black Street:geo:152.8979745,-30.4488942
CATEGORIES:Growers Market
END:VEVENT
END:VCALENDAR