BEGIN:VCALENDAR
VERSION:2.0
PRODID:-//Bellingen Showground - ECPv4.3.3//NONSGML v1.0//EN
CALSCALE:GREGORIAN
METHOD:PUBLISH
X-WR-CALNAME:Bellingen Showground
X-ORIGINAL-URL:http://www.bellingenshowground.com.au
X-WR-CALDESC:Events for Bellingen Showground
BEGIN:VEVENT
DTSTART;TZID=Australia/Sydney:20200206T133000
DTEND;TZID=Australia/Sydney:20200206T143000
DTSTAMP:20200228T034412
CREATED:20191128T011912Z
LAST-MODIFIED:20191128T011912Z
UID:11811-1580995800-1580999400@www.bellingenshowground.com.au
SUMMARY:"UCanDo" Exercise Class
DESCRIPTION:
URL:http://www.bellingenshowground.com.au/event/ucando-exercise-class-2/2020-02-06/
LOCATION:Black Street\, Bellingen\, NSW\, 2454\, Australia
GEO:-30.4488942;152.8979745
X-APPLE-STRUCTURED-LOCATION;VALUE=URI;X-ADDRESS=Black Street Bellingen NSW 2454 Australia;X-APPLE-RADIUS=500;X-TITLE=Black Street:geo:152.8979745,-30.4488942
CATEGORIES:Main Pavilion
ORGANIZER;CN="Shelley%27s%20Group%20Exercise%20Fitness%20Classes":MAILTO:shelleysbootcamp@outlook.com 
END:VEVENT
END:VCALENDAR